BEGIN:VCALENDAR
VERSION:2.0
PRODID:-//72f78a320cfd6d24ed068ed2c243ac06eb10849c//NONSGML kigkonsult.se i
 Calcreator 2.39.1//
CALSCALE:GREGORIAN
UID:2b113a96-04c3-4a4b-a4c0-8924fd8440de
BEGIN:VTIMEZONE
TZID:UTC
END:VTIMEZONE
BEGIN:VEVENT
UID:7c6632b2-09e2-458c-8f98-466a40a8cb21
DTSTAMP:20260422T225708Z
CLASS:PUBLIC
DESCRIPTION:
DTSTART;TZID=Europe/Vienna:20260924T173000
DTEND;TZID=Europe/Vienna:20260924T183000
LOCATION:
SEQUENCE:1
SUMMARY:Anbetung\, 17:55 Uhr Rosenkranz
TRANSP:OPAQUE
END:VEVENT
END:VCALENDAR
