BEGIN:VCALENDAR
VERSION:2.0
PRODID:-//2bbefd8e30b47340bd90ae9ad12924f34d1c2bad//NONSGML kigkonsult.se i
 Calcreator 2.39.1//
CALSCALE:GREGORIAN
UID:c8aa2433-6301-4c2d-b655-8f4ffab5a0d1
BEGIN:VTIMEZONE
TZID:UTC
END:VTIMEZONE
BEGIN:VEVENT
UID:98580c5b-3d98-4f40-a3d7-2b457d537165
DTSTAMP:20260422T225748Z
CLASS:PUBLIC
DESCRIPTION:
DTSTART;TZID=Europe/Vienna:20260813T173000
DTEND;TZID=Europe/Vienna:20260813T183000
LOCATION:
SEQUENCE:1
SUMMARY:Anbetung\, 17:55 Uhr Rosenkranz
TRANSP:OPAQUE
END:VEVENT
END:VCALENDAR
