BEGIN:VCALENDAR
VERSION:2.0
PRODID:-//3be476f02259cb40bc0d2c58b498e14b8bec1822//NONSGML kigkonsult.se i
 Calcreator 2.39.1//
CALSCALE:GREGORIAN
UID:38675b2f-e45a-4112-8983-063faafd8e19
BEGIN:VTIMEZONE
TZID:UTC
END:VTIMEZONE
BEGIN:VEVENT
UID:f2c58420-423c-497e-8d71-dcf1c0c34272
DTSTAMP:20260422T225708Z
CLASS:PUBLIC
DESCRIPTION:
DTSTART;TZID=Europe/Vienna:20260910T173000
DTEND;TZID=Europe/Vienna:20260910T183000
LOCATION:
SEQUENCE:1
SUMMARY:Anbetung\, 17:55 Uhr Rosenkranz
TRANSP:OPAQUE
END:VEVENT
END:VCALENDAR
