BEGIN:VCALENDAR
VERSION:2.0
PRODID:-//847ec35a8cce9661deede62fcff2987872f1624b//NONSGML kigkonsult.se i
 Calcreator 2.39.1//
CALSCALE:GREGORIAN
UID:4a15a1f7-20ed-4ba9-96b5-b57ca91b6ef7
BEGIN:VTIMEZONE
TZID:UTC
END:VTIMEZONE
BEGIN:VEVENT
UID:63610334-d89f-468d-a3d0-35530fff13d5
DTSTAMP:20260422T225816Z
CLASS:PUBLIC
DESCRIPTION:
DTSTART;TZID=Europe/Vienna:20261008T173000
DTEND;TZID=Europe/Vienna:20261008T183000
LOCATION:
SEQUENCE:1
SUMMARY:Anbetung\, 17:55 Uhr Rosenkranz
TRANSP:OPAQUE
END:VEVENT
END:VCALENDAR
