BEGIN:VCALENDAR
VERSION:2.0
PRODID:-//1ee1ba2a6e174c8216db95d277926e907f24d609//NONSGML kigkonsult.se i
 Calcreator 2.39.1//
CALSCALE:GREGORIAN
UID:04b5373f-f65e-4bb8-ad37-078d7e14765c
BEGIN:VTIMEZONE
TZID:UTC
END:VTIMEZONE
BEGIN:VEVENT
UID:940e40f6-15ed-4ca3-b417-5b24a9ee466c
DTSTAMP:20260422T225816Z
CLASS:PUBLIC
DESCRIPTION:
DTSTART;TZID=Europe/Vienna:20260903T173000
DTEND;TZID=Europe/Vienna:20260903T183000
LOCATION:
SEQUENCE:1
SUMMARY:Anbetung\, 17:55 Uhr Rosenkranz
TRANSP:OPAQUE
END:VEVENT
END:VCALENDAR
