BEGIN:VCALENDAR
VERSION:2.0
PRODID:-//3ad700f85efb13c7b1e5418f34dc5a3323488508//NONSGML kigkonsult.se i
 Calcreator 2.39.1//
CALSCALE:GREGORIAN
UID:bd5e1305-57be-437c-b742-b5a7e78bab20
BEGIN:VTIMEZONE
TZID:UTC
END:VTIMEZONE
BEGIN:VEVENT
UID:e83c56df-a4eb-4694-bb22-e9d03bf33a67
DTSTAMP:20260422T201702Z
CLASS:PUBLIC
DESCRIPTION:
DTSTART;TZID=Europe/Vienna:20260506T173000
DTEND;TZID=Europe/Vienna:20260506T183000
LOCATION:
SEQUENCE:1
SUMMARY:Anbetung
TRANSP:OPAQUE
END:VEVENT
END:VCALENDAR
